BEGIN:VCALENDAR
VERSION:2.0
PRODID:-//Ageevee.nl//NONSGML kigkonsult.se iCalcreator 2.41.92//
CALSCALE:GREGORIAN
METHOD:PUBLISH
UID:35336334-3635-4138-b931-613732343531
X-WR-CALNAME:iCagenda
X-WR-CALDESC:Event Management Extension for Joomla!
X-WR-RELCALID:3E26604A-50F4-4449-8B3E-E4F4932D05B5
X-WR-TIMEZONE:Europe/Amsterdam
BEGIN:VTIMEZONE
TZID:Europe/Amsterdam
TZUNTIL:20250330T010000Z
BEGIN:STANDARD
TZNAME:CET
DTSTART:20221030T030000
TZOFFSETFROM:+0200
TZOFFSETTO:+0100
RDATE:20231029T030000
RDATE:20241027T030000
END:STANDARD
BEGIN:DAYLIGHT
TZNAME:CEST
DTSTART:20230326T020000
TZOFFSETFROM:+0100
TZOFFSETTO:+0200
RDATE:20240331T020000
END:DAYLIGHT
END:VTIMEZONE
BEGIN:VEVENT
UID:62386535-3264-4562-b931-623239373663
DTSTAMP:20260423T123936Z
CATEGORIES:Locatie Amsterdam
CLASS:PUBLIC
DESCRIPTION:
DTSTART:20230630T161200Z
DTEND:20230630T161300Z
GEO:00;0
LOCATION:
ORGANIZER:
SEQUENCE:1
SUMMARY:Vooraankondiging evenement AGV A'dam 30 juni 2023
TRANSP:OPAQUE
URL:https://www.ageevee.nl/index.php/component/icagenda/244-vooraankondigin
 g-evenement-agv-adam-30-juni-2023/2023-06-30-18-12
END:VEVENT
END:VCALENDAR
