BEGIN:VCALENDAR
VERSION:2.0
PRODID:-//Ageevee.nl//NONSGML kigkonsult.se iCalcreator 2.41.92//
CALSCALE:GREGORIAN
METHOD:PUBLISH
UID:33653362-6233-4164-b234-656139353330
X-WR-CALNAME:iCagenda
X-WR-CALDESC:Event Management Extension for Joomla!
X-WR-RELCALID:3E26604A-50F4-4449-8B3E-E4F4932D05B5
X-WR-TIMEZONE:Europe/Amsterdam
BEGIN:VTIMEZONE
TZID:Europe/Amsterdam
TZUNTIL:20241027T010000Z
BEGIN:STANDARD
TZNAME:CET
DTSTART:20221030T030000
TZOFFSETFROM:+0200
TZOFFSETTO:+0100
RDATE:20231029T030000
END:STANDARD
BEGIN:DAYLIGHT
TZNAME:CEST
DTSTART:20220327T020000
TZOFFSETFROM:+0100
TZOFFSETTO:+0200
RDATE:20230326T020000
RDATE:20240331T020000
END:DAYLIGHT
END:VTIMEZONE
BEGIN:VEVENT
UID:38376438-3136-4233-a438-366564636163
DTSTAMP:20260423T172949Z
CATEGORIES:Locatie Leiden
CLASS:PUBLIC
DESCRIPTION:
DTSTART:20230311T230000Z
DTEND:20230312T230000Z
GEO:00;0
LOCATION:Zilveren Kruis Achmea\, Dellaertweg 1\, 2316 WZ Leiden
ORGANIZER;CN=:mailto:secr.leiden@ageevee.nl
SEQUENCE:1
SUMMARY:Algemene Leden Vergadering AGV locatie LEIDEN
TRANSP:OPAQUE
URL:https://www.ageevee.nl/index.php/component/icagenda/247-algemene-leden-
 vergadering-agv-locatie-leiden
END:VEVENT
END:VCALENDAR
