BEGIN:VCALENDAR
VERSION:2.0
PRODID:-//Ageevee.nl//NONSGML kigkonsult.se iCalcreator 2.41.92//
CALSCALE:GREGORIAN
METHOD:PUBLISH
UID:64646161-3765-4036-b462-363438636233
X-WR-CALNAME:iCagenda
X-WR-CALDESC:Event Management Extension for Joomla!
X-WR-RELCALID:3E26604A-50F4-4449-8B3E-E4F4932D05B5
X-WR-TIMEZONE:Europe/Amsterdam
BEGIN:VTIMEZONE
TZID:Europe/Amsterdam
TZUNTIL:20241027T010000Z
BEGIN:STANDARD
TZNAME:CET
DTSTART:20221030T030000
TZOFFSETFROM:+0200
TZOFFSETTO:+0100
RDATE:20231029T030000
END:STANDARD
BEGIN:DAYLIGHT
TZNAME:CEST
DTSTART:20230326T020000
TZOFFSETFROM:+0100
TZOFFSETTO:+0200
RDATE:20240331T020000
END:DAYLIGHT
END:VTIMEZONE
BEGIN:VEVENT
UID:63306665-6434-4136-b163-336536353662
DTSTAMP:20260423T160930Z
CATEGORIES:Locatie Leiden
CLASS:PUBLIC
DESCRIPTION:
DTSTART:20230412T121500Z
DTEND:20230412T153000Z
GEO:00;0
LOCATION:
ORGANIZER;CN=:mailto:agniet.bommele@kpnmail.nl
SEQUENCE:1
SUMMARY:Leiden\,  Algemene Leden Vergadering
TRANSP:OPAQUE
URL:https://www.ageevee.nl/index.php/component/icagenda/251-algemene-leiden
 -vergadering
END:VEVENT
END:VCALENDAR
