BEGIN:VCALENDAR
VERSION:2.0
PRODID:-//Ageevee.nl//NONSGML kigkonsult.se iCalcreator 2.41.92//
CALSCALE:GREGORIAN
METHOD:PUBLISH
UID:35376433-3032-4962-a530-393138363035
X-WR-CALNAME:iCagenda
X-WR-CALDESC:Event Management Extension for Joomla!
X-WR-RELCALID:3E26604A-50F4-4449-8B3E-E4F4932D05B5
X-WR-TIMEZONE:Europe/Amsterdam
BEGIN:VTIMEZONE
TZID:Europe/Amsterdam
TZUNTIL:20250330T010000Z
BEGIN:STANDARD
TZNAME:CET
DTSTART:20221030T030000
TZOFFSETFROM:+0200
TZOFFSETTO:+0100
RDATE:20231029T030000
RDATE:20241027T030000
END:STANDARD
BEGIN:DAYLIGHT
TZNAME:CEST
DTSTART:20230326T020000
TZOFFSETFROM:+0100
TZOFFSETTO:+0200
RDATE:20240331T020000
END:DAYLIGHT
END:VTIMEZONE
BEGIN:VEVENT
UID:30353135-3831-4536-b561-386636383431
DTSTAMP:20260423T123836Z
CATEGORIES:Locatie Tilburg
CLASS:PUBLIC
DESCRIPTION:
DTSTART:20230531T220000Z
DTEND:20230531T220000Z
GEO:00;0
LOCATION:
ORGANIZER;CN=:mailto:secr.tilburg@ageevee.nl
SEQUENCE:1
SUMMARY:Locatie Tilburg\, Voorjaarsuitje Efteling
TRANSP:OPAQUE
URL:https://www.ageevee.nl/index.php/component/icagenda/253-locatie-tilburg
 -voorjaarsuitje-efteling-2
END:VEVENT
END:VCALENDAR
