BEGIN:VCALENDAR
VERSION:2.0
PRODID:-//Ageevee.nl//NONSGML kigkonsult.se iCalcreator 2.41.92//
CALSCALE:GREGORIAN
METHOD:PUBLISH
UID:65393638-3635-4534-b839-646439303263
X-WR-CALNAME:iCagenda
X-WR-CALDESC:Event Management Extension for Joomla!
X-WR-RELCALID:3E26604A-50F4-4449-8B3E-E4F4932D05B5
X-WR-TIMEZONE:Europe/Amsterdam
BEGIN:VTIMEZONE
TZID:Europe/Amsterdam
TZUNTIL:20251026T010000Z
BEGIN:STANDARD
TZNAME:CET
DTSTART:20231029T030000
TZOFFSETFROM:+0200
TZOFFSETTO:+0100
RDATE:20241027T030000
END:STANDARD
BEGIN:DAYLIGHT
TZNAME:CEST
DTSTART:20230326T020000
TZOFFSETFROM:+0100
TZOFFSETTO:+0200
RDATE:20240331T020000
RDATE:20250330T020000
END:DAYLIGHT
END:VTIMEZONE
BEGIN:VEVENT
UID:62663835-3731-4538-b938-373263346266
DTSTAMP:20260423T041815Z
CATEGORIES:Locatie Amersfoort
CLASS:PUBLIC
DESCRIPTION:
DTSTART:20231108T103000Z
DTEND:20231108T140000Z
GEO:00;0
LOCATION:De Weistaar\, Rottegatsteeg 6\, 3925 MN Maarsbergen
ORGANIZER:
SEQUENCE:1
SUMMARY:Lunchbijeenkomst
TRANSP:OPAQUE
URL:https://www.ageevee.nl/index.php/component/icagenda/257-lunchbijeenkoms
 t/2023-11-08-11-30
END:VEVENT
END:VCALENDAR
