BEGIN:VCALENDAR
VERSION:2.0
PRODID:-//Ageevee.nl//NONSGML kigkonsult.se iCalcreator 2.41.92//
CALSCALE:GREGORIAN
METHOD:PUBLISH
UID:64393464-3235-4234-a262-613164303162
X-WR-CALNAME:iCagenda
X-WR-CALDESC:Event Management Extension for Joomla!
X-WR-RELCALID:3E26604A-50F4-4449-8B3E-E4F4932D05B5
X-WR-TIMEZONE:Europe/Amsterdam
BEGIN:VTIMEZONE
TZID:Europe/Amsterdam
TZUNTIL:20250330T010000Z
BEGIN:STANDARD
TZNAME:CET
DTSTART:20221030T030000
TZOFFSETFROM:+0200
TZOFFSETTO:+0100
RDATE:20231029T030000
RDATE:20241027T030000
END:STANDARD
BEGIN:DAYLIGHT
TZNAME:CEST
DTSTART:20230326T020000
TZOFFSETFROM:+0100
TZOFFSETTO:+0200
RDATE:20240331T020000
END:DAYLIGHT
END:VTIMEZONE
BEGIN:VEVENT
UID:36643639-3938-4234-a464-383938303635
DTSTAMP:20260423T105641Z
CATEGORIES:Commissie-systeembeheer
CLASS:PUBLIC
DESCRIPTION:
DTSTART:20230710T080000Z
DTEND:20230710T103000Z
GEO:+51.559311;+5.098771
LOCATION:Interpolis
ORGANIZER:
SEQUENCE:1
SUMMARY:Overleg commissie Systeembeheer
TRANSP:OPAQUE
URL:https://www.ageevee.nl/index.php/component/icagenda/259-overleg-commiss
 ie-systeembeheer
END:VEVENT
END:VCALENDAR
