BEGIN:VCALENDAR
VERSION:2.0
PRODID:-//Ageevee.nl//NONSGML kigkonsult.se iCalcreator 2.41.92//
CALSCALE:GREGORIAN
METHOD:PUBLISH
UID:39326639-3030-4937-b639-396337666136
X-WR-CALNAME:iCagenda
X-WR-CALDESC:Event Management Extension for Joomla!
X-WR-RELCALID:3E26604A-50F4-4449-8B3E-E4F4932D05B5
X-WR-TIMEZONE:Europe/Amsterdam
BEGIN:VTIMEZONE
TZID:Europe/Amsterdam
TZUNTIL:20251026T010000Z
BEGIN:STANDARD
TZNAME:CET
DTSTART:20231029T030000
TZOFFSETFROM:+0200
TZOFFSETTO:+0100
RDATE:20241027T030000
END:STANDARD
BEGIN:DAYLIGHT
TZNAME:CEST
DTSTART:20230326T020000
TZOFFSETFROM:+0100
TZOFFSETTO:+0200
RDATE:20240331T020000
RDATE:20250330T020000
END:DAYLIGHT
END:VTIMEZONE
BEGIN:VEVENT
UID:30346238-6336-4961-a561-323639323532
DTSTAMP:20260423T010841Z
CATEGORIES:Locatie Leiden
CLASS:PUBLIC
DESCRIPTION:
DTSTART:20240111T150000Z
DTEND:20240111T190000Z
GEO:+52.052246;+4.402738
LOCATION:Event en partycentrum “het Witte Paard” Gildeweg 2\, 2632 BA Nootd
 orp.
ORGANIZER:
SEQUENCE:1
SUMMARY:Nieuwjaarsbijeenkomst
TRANSP:OPAQUE
URL:https://www.ageevee.nl/index.php/component/icagenda/263-nieuwjaarsbijee
 nkomst-2
END:VEVENT
END:VCALENDAR
