BEGIN:VCALENDAR
VERSION:2.0
PRODID:-//Ageevee.nl//NONSGML kigkonsult.se iCalcreator 2.41.92//
CALSCALE:GREGORIAN
METHOD:PUBLISH
UID:65376336-6339-4639-b833-363066313539
X-WR-CALNAME:iCagenda
X-WR-CALDESC:Event Management Extension for Joomla!
X-WR-RELCALID:3E26604A-50F4-4449-8B3E-E4F4932D05B5
X-WR-TIMEZONE:Europe/Amsterdam
BEGIN:VTIMEZONE
TZID:Europe/Amsterdam
TZUNTIL:20251026T010000Z
BEGIN:STANDARD
TZNAME:CET
DTSTART:20231029T030000
TZOFFSETFROM:+0200
TZOFFSETTO:+0100
RDATE:20241027T030000
END:STANDARD
BEGIN:DAYLIGHT
TZNAME:CEST
DTSTART:20230326T020000
TZOFFSETFROM:+0100
TZOFFSETTO:+0200
RDATE:20240331T020000
RDATE:20250330T020000
END:DAYLIGHT
END:VTIMEZONE
BEGIN:VEVENT
UID:30626662-3631-4331-b038-383464643038
DTSTAMP:20260423T023846Z
CATEGORIES:Locatie Tilburg
CLASS:PUBLIC
DESCRIPTION:
DTSTART:20231213T133000Z
DTEND:20231213T180000Z
GEO:00;0
LOCATION:
ORGANIZER;CN=:mailto:secr.tilburg@ageevee.nl
SEQUENCE:1
SUMMARY:Eindejaar bijeenkomst\, locatie Tilburg
TRANSP:OPAQUE
URL:https://www.ageevee.nl/index.php/component/icagenda/268-eindejaar-bijee
 nkomst-locatie-tilburg
END:VEVENT
END:VCALENDAR
