BEGIN:VCALENDAR
VERSION:2.0
PRODID:-//Ageevee.nl//NONSGML kigkonsult.se iCalcreator 2.41.92//
CALSCALE:GREGORIAN
METHOD:PUBLISH
UID:63396261-3261-4430-a235-666566313633
X-WR-CALNAME:iCagenda
X-WR-CALDESC:Event Management Extension for Joomla!
X-WR-RELCALID:3E26604A-50F4-4449-8B3E-E4F4932D05B5
X-WR-TIMEZONE:Europe/Amsterdam
BEGIN:VTIMEZONE
TZID:Europe/Amsterdam
TZUNTIL:20251026T010000Z
BEGIN:STANDARD
TZNAME:CET
DTSTART:20231029T030000
TZOFFSETFROM:+0200
TZOFFSETTO:+0100
RDATE:20241027T030000
END:STANDARD
BEGIN:DAYLIGHT
TZNAME:CEST
DTSTART:20230326T020000
TZOFFSETFROM:+0100
TZOFFSETTO:+0200
RDATE:20240331T020000
RDATE:20250330T020000
END:DAYLIGHT
END:VTIMEZONE
BEGIN:VEVENT
UID:65326461-3638-4139-b932-336632386238
DTSTAMP:20260423T011226Z
CATEGORIES:Locatie Amersfoort
CLASS:PUBLIC
DESCRIPTION:
DTSTART:20240124T093000Z
DTEND:20240124T133000Z
GEO:00;0
LOCATION:De Observant in Amersfoort
ORGANIZER:
SEQUENCE:1
SUMMARY:Alg. Ledenvergadering en Nieuwjaarsbijeenkomst
TRANSP:OPAQUE
URL:https://www.ageevee.nl/index.php/component/icagenda/272-alg-ledenvergad
 ering-en-nieuwjaarsbijeenkomst
END:VEVENT
END:VCALENDAR
