BEGIN:VCALENDAR
VERSION:2.0
PRODID:-//Ageevee.nl//NONSGML kigkonsult.se iCalcreator 2.41.92//
CALSCALE:GREGORIAN
METHOD:PUBLISH
UID:61353935-6437-4666-b263-616533313836
X-WR-CALNAME:iCagenda
X-WR-CALDESC:Event Management Extension for Joomla!
X-WR-RELCALID:3E26604A-50F4-4449-8B3E-E4F4932D05B5
X-WR-TIMEZONE:Europe/Amsterdam
BEGIN:VTIMEZONE
TZID:Europe/Amsterdam
TZUNTIL:20251026T010000Z
BEGIN:STANDARD
TZNAME:CET
DTSTART:20231029T030000
TZOFFSETFROM:+0200
TZOFFSETTO:+0100
RDATE:20241027T030000
END:STANDARD
BEGIN:DAYLIGHT
TZNAME:CEST
DTSTART:20230326T020000
TZOFFSETFROM:+0100
TZOFFSETTO:+0200
RDATE:20240331T020000
RDATE:20250330T020000
END:DAYLIGHT
END:VTIMEZONE
BEGIN:VEVENT
UID:61363739-6238-4334-b164-303261373439
DTSTAMP:20260422T220150Z
CATEGORIES:Locatie Amsterdam
CLASS:PUBLIC
DESCRIPTION:
DTSTART:20240320T120000Z
DTEND:20240320T230000Z
GEO:00;0
LOCATION:
ORGANIZER:
SEQUENCE:1
SUMMARY:Algemene Ledenvergadering Loetje aan het IJ
TRANSP:OPAQUE
URL:https://www.ageevee.nl/index.php/component/icagenda/274-algemene-ledenv
 ergadering-loetje-aan-het-ij
END:VEVENT
END:VCALENDAR
