BEGIN:VCALENDAR
VERSION:2.0
PRODID:-//Ageevee.nl//NONSGML kigkonsult.se iCalcreator 2.41.92//
CALSCALE:GREGORIAN
METHOD:PUBLISH
UID:39366333-3864-4233-b965-363138613166
X-WR-CALNAME:iCagenda
X-WR-CALDESC:Event Management Extension for Joomla!
X-WR-RELCALID:3E26604A-50F4-4449-8B3E-E4F4932D05B5
X-WR-TIMEZONE:Europe/Amsterdam
BEGIN:VTIMEZONE
TZID:Europe/Amsterdam
TZUNTIL:20260329T010000Z
BEGIN:STANDARD
TZNAME:CET
DTSTART:20231029T030000
TZOFFSETFROM:+0200
TZOFFSETTO:+0100
RDATE:20241027T030000
RDATE:20251026T030000
END:STANDARD
BEGIN:DAYLIGHT
TZNAME:CEST
DTSTART:20240331T020000
TZOFFSETFROM:+0100
TZOFFSETTO:+0200
RDATE:20250330T020000
END:DAYLIGHT
END:VTIMEZONE
BEGIN:VEVENT
UID:64313264-3839-4335-b834-613937323166
DTSTAMP:20260422T122639Z
CATEGORIES:Locatie Amsterdam
CLASS:PUBLIC
DESCRIPTION:
DTSTART:20240905T220800Z
DTEND:20240906T215900Z
GEO:00;0
LOCATION:Het Loo
ORGANIZER:
SEQUENCE:1
SUMMARY:Bezoek Paleis het Loo in Apeldoorn
TRANSP:OPAQUE
URL:https://www.ageevee.nl/index.php/component/icagenda/276-bezoek-paleis-h
 et-loo-in-apeldoorn
END:VEVENT
END:VCALENDAR
