BEGIN:VCALENDAR
VERSION:2.0
PRODID:-//Ageevee.nl//NONSGML kigkonsult.se iCalcreator 2.41.92//
CALSCALE:GREGORIAN
METHOD:PUBLISH
UID:37313836-3533-4333-a464-666530643335
X-WR-CALNAME:iCagenda
X-WR-CALDESC:Event Management Extension for Joomla!
X-WR-RELCALID:3E26604A-50F4-4449-8B3E-E4F4932D05B5
X-WR-TIMEZONE:Europe/Amsterdam
BEGIN:VTIMEZONE
TZID:Europe/Amsterdam
TZUNTIL:20251026T010000Z
BEGIN:STANDARD
TZNAME:CET
DTSTART:20231029T030000
TZOFFSETFROM:+0200
TZOFFSETTO:+0100
RDATE:20241027T030000
END:STANDARD
BEGIN:DAYLIGHT
TZNAME:CEST
DTSTART:20230326T020000
TZOFFSETFROM:+0100
TZOFFSETTO:+0200
RDATE:20240331T020000
RDATE:20250330T020000
END:DAYLIGHT
END:VTIMEZONE
BEGIN:VEVENT
UID:36383963-6664-4337-a334-336338326466
DTSTAMP:20260423T011056Z
CATEGORIES:Locatie Apeldoorn
CLASS:PUBLIC
DESCRIPTION:
DTSTART:20240119T090200Z
DTEND:20240119T090300Z
GEO:00;0
LOCATION:Centraal Beheer\, Apeldoorn
ORGANIZER:
SEQUENCE:1
SUMMARY:Ledenvergadering
TRANSP:OPAQUE
URL:https://www.ageevee.nl/index.php/component/icagenda/277-ledenvergaderin
 g-2/2024-01-19-10-02
END:VEVENT
END:VCALENDAR
