BEGIN:VCALENDAR
VERSION:2.0
PRODID:-//Ageevee.nl//NONSGML kigkonsult.se iCalcreator 2.41.92//
CALSCALE:GREGORIAN
METHOD:PUBLISH
UID:65306230-6137-4138-b231-383037326662
X-WR-CALNAME:iCagenda
X-WR-CALDESC:Event Management Extension for Joomla!
X-WR-RELCALID:3E26604A-50F4-4449-8B3E-E4F4932D05B5
X-WR-TIMEZONE:Europe/Amsterdam
BEGIN:VTIMEZONE
TZID:Europe/Amsterdam
TZUNTIL:20251026T010000Z
BEGIN:STANDARD
TZNAME:CET
DTSTART:20231029T030000
TZOFFSETFROM:+0200
TZOFFSETTO:+0100
RDATE:20241027T030000
END:STANDARD
BEGIN:DAYLIGHT
TZNAME:CEST
DTSTART:20230326T020000
TZOFFSETFROM:+0100
TZOFFSETTO:+0200
RDATE:20240331T020000
RDATE:20250330T020000
END:DAYLIGHT
END:VTIMEZONE
BEGIN:VEVENT
UID:62376238-3330-4336-a634-613863633234
DTSTAMP:20260422T220120Z
CATEGORIES:Locatie Leeuwarden
CLASS:PUBLIC
DESCRIPTION:
DTSTART:20240314T123000Z
DTEND:20240314T160000Z
GEO:+53.197876;+5.789328
LOCATION:Achmea toren Leeuwarden\, Willemskade/Sophialaan
ORGANIZER;CN=:mailto:secr.leeuwarden@ageevee.nl
SEQUENCE:1
SUMMARY:Ledenvergadering
TRANSP:OPAQUE
URL:https://www.ageevee.nl/index.php/component/icagenda/278-ledenvergaderin
 g-14-maart-2024
END:VEVENT
END:VCALENDAR
