BEGIN:VCALENDAR
VERSION:2.0
PRODID:-//Ageevee.nl//NONSGML kigkonsult.se iCalcreator 2.41.92//
CALSCALE:GREGORIAN
METHOD:PUBLISH
UID:32336132-3233-4835-b030-623234663862
X-WR-CALNAME:iCagenda
X-WR-CALDESC:Event Management Extension for Joomla!
X-WR-RELCALID:3E26604A-50F4-4449-8B3E-E4F4932D05B5
X-WR-TIMEZONE:Europe/Amsterdam
BEGIN:VTIMEZONE
TZID:Europe/Amsterdam
TZUNTIL:20251026T010000Z
BEGIN:STANDARD
TZNAME:CET
DTSTART:20231029T030000
TZOFFSETFROM:+0200
TZOFFSETTO:+0100
RDATE:20241027T030000
END:STANDARD
BEGIN:DAYLIGHT
TZNAME:CEST
DTSTART:20230326T020000
TZOFFSETFROM:+0100
TZOFFSETTO:+0200
RDATE:20240331T020000
RDATE:20250330T020000
END:DAYLIGHT
END:VTIMEZONE
BEGIN:VEVENT
UID:64643262-3364-4664-a532-363262623637
DTSTAMP:20260422T220120Z
CATEGORIES:Locatie Leiden
CLASS:PUBLIC
DESCRIPTION:
DTSTART:20240316T161500Z
DTEND:20240316T224500Z
GEO:00;0
LOCATION:Hilversum
ORGANIZER;CN=:mailto:secr.leiden@ageevee.nl
SEQUENCE:1
SUMMARY:Dinner Show Grandeur
TRANSP:OPAQUE
URL:https://www.ageevee.nl/index.php/component/icagenda/280-dinner-show-gra
 ndeur
END:VEVENT
END:VCALENDAR
