BEGIN:VCALENDAR
VERSION:2.0
PRODID:-//Ageevee.nl//NONSGML kigkonsult.se iCalcreator 2.41.92//
CALSCALE:GREGORIAN
METHOD:PUBLISH
UID:32663137-3837-4766-a336-373231303531
X-WR-CALNAME:iCagenda
X-WR-CALDESC:Event Management Extension for Joomla!
X-WR-RELCALID:3E26604A-50F4-4449-8B3E-E4F4932D05B5
X-WR-TIMEZONE:Europe/Amsterdam
BEGIN:VTIMEZONE
TZID:Europe/Amsterdam
TZUNTIL:20251026T010000Z
BEGIN:STANDARD
TZNAME:CET
DTSTART:20231029T030000
TZOFFSETFROM:+0200
TZOFFSETTO:+0100
RDATE:20241027T030000
END:STANDARD
BEGIN:DAYLIGHT
TZNAME:CEST
DTSTART:20230326T020000
TZOFFSETFROM:+0100
TZOFFSETTO:+0200
RDATE:20240331T020000
RDATE:20250330T020000
END:DAYLIGHT
END:VTIMEZONE
BEGIN:VEVENT
UID:66306239-3935-4435-b663-333839323662
DTSTAMP:20260423T012730Z
CATEGORIES:Locatie Zwolle
CLASS:PUBLIC
DESCRIPTION:
DTSTART:20240117T091000Z
DTEND:20240117T091100Z
GEO:00;0
LOCATION:De Molenhoeve te Echten (Dr)
ORGANIZER;CN=:mailto:degraaf.jh58@gmail.com
SEQUENCE:1
SUMMARY:Jaarvergadering in Echten (DR)
TRANSP:OPAQUE
URL:https://www.ageevee.nl/index.php/component/icagenda/281-jaarvergadering
 -in-echten-dr/2024-01-17-10-10
END:VEVENT
END:VCALENDAR
