BEGIN:VCALENDAR
VERSION:2.0
PRODID:-//Ageevee.nl//NONSGML kigkonsult.se iCalcreator 2.41.92//
CALSCALE:GREGORIAN
METHOD:PUBLISH
UID:32326232-3432-4634-b337-346265633833
X-WR-CALNAME:iCagenda
X-WR-CALDESC:Event Management Extension for Joomla!
X-WR-RELCALID:3E26604A-50F4-4449-8B3E-E4F4932D05B5
X-WR-TIMEZONE:Europe/Amsterdam
BEGIN:VTIMEZONE
TZID:Europe/Amsterdam
TZUNTIL:20251026T010000Z
BEGIN:STANDARD
TZNAME:CET
DTSTART:20231029T030000
TZOFFSETFROM:+0200
TZOFFSETTO:+0100
RDATE:20241027T030000
END:STANDARD
BEGIN:DAYLIGHT
TZNAME:CEST
DTSTART:20230326T020000
TZOFFSETFROM:+0100
TZOFFSETTO:+0200
RDATE:20240331T020000
RDATE:20250330T020000
END:DAYLIGHT
END:VTIMEZONE
BEGIN:VEVENT
UID:35663234-6165-4365-a433-643136616532
DTSTAMP:20260422T220402Z
CATEGORIES:Locatie Tilburg
CLASS:PUBLIC
DESCRIPTION:
DTSTART:20240320T130000Z
DTEND:20240320T165900Z
GEO:00;0
LOCATION:Tilburg
ORGANIZER;CN=:mailto:secr.tilburg@ageevee.nl
SEQUENCE:1
SUMMARY:Ledenvergadering Locatie Tilburg
TRANSP:OPAQUE
URL:https://www.ageevee.nl/index.php/component/icagenda/295-ledenvergaderin
 g-locatie-tilburg/2024-03-20-14-00
END:VEVENT
END:VCALENDAR
