BEGIN:VCALENDAR
VERSION:2.0
PRODID:-//Ageevee.nl//NONSGML kigkonsult.se iCalcreator 2.41.92//
CALSCALE:GREGORIAN
METHOD:PUBLISH
UID:33363663-3132-4630-a265-383231353339
X-WR-CALNAME:iCagenda
X-WR-CALDESC:Event Management Extension for Joomla!
X-WR-RELCALID:3E26604A-50F4-4449-8B3E-E4F4932D05B5
X-WR-TIMEZONE:Europe/Amsterdam
BEGIN:VTIMEZONE
TZID:Europe/Amsterdam
TZUNTIL:20260329T010000Z
BEGIN:STANDARD
TZNAME:CET
DTSTART:20231029T030000
TZOFFSETFROM:+0200
TZOFFSETTO:+0100
RDATE:20241027T030000
RDATE:20251026T030000
END:STANDARD
BEGIN:DAYLIGHT
TZNAME:CEST
DTSTART:20240331T020000
TZOFFSETFROM:+0100
TZOFFSETTO:+0200
RDATE:20250330T020000
END:DAYLIGHT
END:VTIMEZONE
BEGIN:VEVENT
UID:32373661-6535-4465-b262-363565393830
DTSTAMP:20260422T201105Z
CATEGORIES:Locatie Apeldoorn
CLASS:PUBLIC
DESCRIPTION;ALTREP="CID:<FFFF__=0ABBE548DFE235B58f9e8a93d@coffeebean.com>":
 Programma 1: Bezoek aan Het Kaasmuseum- en Boerderij de Weistaar en een Gl
 asblazerij in Maarsbergen\nProgramma 2: Bezoek aan Het Kaasmuseum- en Boer
 derij de Weistaar en Het Nationaal Militair Museum in Soesterberg
DTSTART:20240426T073000Z
DTEND:20240426T180000Z
GEO:+52.066292;+5.431056
LOCATION:
ORGANIZER;CN=:mailto:secr.apeldoorn@ageevee.nl
SEQUENCE:1
SUMMARY:Voorjaarsevenement
TRANSP:OPAQUE
URL:https://www.ageevee.nl/index.php/component/icagenda/300-voorjaarsevenem
 ent-3
END:VEVENT
END:VCALENDAR
