BEGIN:VCALENDAR
VERSION:2.0
PRODID:-//Ageevee.nl//NONSGML kigkonsult.se iCalcreator 2.41.92//
CALSCALE:GREGORIAN
METHOD:PUBLISH
UID:32326432-3764-4637-a236-373037316135
X-WR-CALNAME:iCagenda
X-WR-CALDESC:Event Management Extension for Joomla!
X-WR-RELCALID:3E26604A-50F4-4449-8B3E-E4F4932D05B5
X-WR-TIMEZONE:Europe/Amsterdam
BEGIN:VTIMEZONE
TZID:Europe/Amsterdam
TZUNTIL:20260329T010000Z
BEGIN:STANDARD
TZNAME:CET
DTSTART:20231029T030000
TZOFFSETFROM:+0200
TZOFFSETTO:+0100
RDATE:20241027T030000
RDATE:20251026T030000
END:STANDARD
BEGIN:DAYLIGHT
TZNAME:CEST
DTSTART:20240331T020000
TZOFFSETFROM:+0100
TZOFFSETTO:+0200
RDATE:20250330T020000
END:DAYLIGHT
END:VTIMEZONE
BEGIN:VEVENT
UID:63333636-3139-4635-b866-303232663537
DTSTAMP:20260422T184525Z
CATEGORIES:Locatie Tilburg
CLASS:PUBLIC
DESCRIPTION:
DTSTART:20240529T220000Z
DTEND:20240529T220000Z
GEO:00;0
LOCATION:
ORGANIZER;CN=:mailto:secr.tilburg@ageevee.nl
SEQUENCE:1
SUMMARY:Verrassend Tilburg & meer
TRANSP:OPAQUE
URL:https://www.ageevee.nl/index.php/component/icagenda/302-verrassend-tilb
 urg-meer
END:VEVENT
END:VCALENDAR
