BEGIN:VCALENDAR
VERSION:2.0
PRODID:-//Ageevee.nl//NONSGML kigkonsult.se iCalcreator 2.41.92//
CALSCALE:GREGORIAN
METHOD:PUBLISH
UID:61643562-3634-4766-b938-373363316636
X-WR-CALNAME:iCagenda
X-WR-CALDESC:Event Management Extension for Joomla!
X-WR-RELCALID:3E26604A-50F4-4449-8B3E-E4F4932D05B5
X-WR-TIMEZONE:Europe/Amsterdam
BEGIN:VTIMEZONE
TZID:Europe/Amsterdam
TZUNTIL:20260329T010000Z
BEGIN:STANDARD
TZNAME:CET
DTSTART:20231029T030000
TZOFFSETFROM:+0200
TZOFFSETTO:+0100
RDATE:20241027T030000
RDATE:20251026T030000
END:STANDARD
BEGIN:DAYLIGHT
TZNAME:CEST
DTSTART:20240331T020000
TZOFFSETFROM:+0100
TZOFFSETTO:+0200
RDATE:20250330T020000
END:DAYLIGHT
END:VTIMEZONE
BEGIN:VEVENT
UID:61626630-3665-4233-a632-333365346339
DTSTAMP:20260422T172103Z
CATEGORIES:Locatie Tilburg
CLASS:PUBLIC
DESCRIPTION:
DTSTART:20240603T220000Z
DTEND:20240603T220000Z
GEO:00;0
LOCATION:
ORGANIZER;CN=:mailto:secr.tilburg@ageevee.nl
SEQUENCE:1
SUMMARY:Verrassend Tilburg & meer
TRANSP:OPAQUE
URL:https://www.ageevee.nl/index.php/component/icagenda/303-verrassend-tilb
 urg-meer-2
END:VEVENT
END:VCALENDAR
