BEGIN:VCALENDAR
VERSION:2.0
PRODID:-//Ageevee.nl//NONSGML kigkonsult.se iCalcreator 2.41.92//
CALSCALE:GREGORIAN
METHOD:PUBLISH
UID:39303063-3361-4661-b461-653464636332
X-WR-CALNAME:iCagenda
X-WR-CALDESC:Event Management Extension for Joomla!
X-WR-RELCALID:3E26604A-50F4-4449-8B3E-E4F4932D05B5
X-WR-TIMEZONE:Europe/Amsterdam
BEGIN:VTIMEZONE
TZID:Europe/Amsterdam
TZUNTIL:20261025T010000Z
BEGIN:STANDARD
TZNAME:CET
DTSTART:20241027T030000
TZOFFSETFROM:+0200
TZOFFSETTO:+0100
RDATE:20251026T030000
END:STANDARD
BEGIN:DAYLIGHT
TZNAME:CEST
DTSTART:20240331T020000
TZOFFSETFROM:+0100
TZOFFSETTO:+0200
RDATE:20250330T020000
RDATE:20260329T020000
END:DAYLIGHT
END:VTIMEZONE
BEGIN:VEVENT
UID:38363862-3265-4765-a539-356233386639
DTSTAMP:20260420T061302Z
CATEGORIES:Locatie Leiden
CLASS:PUBLIC
DESCRIPTION:
DTSTART:20241218T141500Z
DTEND:20241218T163000Z
GEO:00;0
LOCATION:AFAS Theater Leusden incl. parkeren en consumpties
ORGANIZER;CN=:mailto:secr.leiden@ageevee.nl
SEQUENCE:1
SUMMARY:Classical Christmas Concert met Jan Vayne
TRANSP:OPAQUE
URL:https://www.ageevee.nl/index.php/component/icagenda/311-classical-chris
 tmas-concert-met-jan-vayne/2024-12-18-15-15
END:VEVENT
END:VCALENDAR
