BEGIN:VCALENDAR
VERSION:2.0
PRODID:-//Ageevee.nl//NONSGML kigkonsult.se iCalcreator 2.41.92//
CALSCALE:GREGORIAN
METHOD:PUBLISH
UID:35313538-3734-4835-a163-633961653034
X-WR-CALNAME:iCagenda
X-WR-CALDESC:Event Management Extension for Joomla!
X-WR-RELCALID:3E26604A-50F4-4449-8B3E-E4F4932D05B5
X-WR-TIMEZONE:Europe/Amsterdam
BEGIN:VTIMEZONE
TZID:Europe/Amsterdam
TZUNTIL:20261025T010000Z
BEGIN:STANDARD
TZNAME:CET
DTSTART:20241027T030000
TZOFFSETFROM:+0200
TZOFFSETTO:+0100
RDATE:20251026T030000
END:STANDARD
BEGIN:DAYLIGHT
TZNAME:CEST
DTSTART:20240331T020000
TZOFFSETFROM:+0100
TZOFFSETTO:+0200
RDATE:20250330T020000
RDATE:20260329T020000
END:DAYLIGHT
END:VTIMEZONE
BEGIN:VEVENT
UID:66306638-3439-4530-a637-323730356664
DTSTAMP:20260420T080954Z
CATEGORIES:Locatie Amsterdam
CLASS:PUBLIC
DESCRIPTION:
DTSTART:20241127T110000Z
DTEND:20241127T143000Z
GEO:+52.168781;+4.989674
LOCATION:Van der Valk hotel Breukelen
ORGANIZER:
SEQUENCE:1
SUMMARY:Live Cooking Lunchbuffet én update Pensioenwet
TRANSP:OPAQUE
URL:https://www.ageevee.nl/index.php/component/icagenda/319-live-cooking-lu
 nchbuffet-en-update-pensioenwet
END:VEVENT
END:VCALENDAR
