BEGIN:VCALENDAR
VERSION:2.0
PRODID:-//Ageevee.nl//NONSGML kigkonsult.se iCalcreator 2.41.92//
CALSCALE:GREGORIAN
METHOD:PUBLISH
UID:34613830-6139-4965-a330-653164363739
X-WR-CALNAME:iCagenda
X-WR-CALDESC:Event Management Extension for Joomla!
X-WR-RELCALID:3E26604A-50F4-4449-8B3E-E4F4932D05B5
X-WR-TIMEZONE:Europe/Amsterdam
BEGIN:VTIMEZONE
TZID:Europe/Amsterdam
TZUNTIL:20261025T010000Z
BEGIN:STANDARD
TZNAME:CET
DTSTART:20241027T030000
TZOFFSETFROM:+0200
TZOFFSETTO:+0100
RDATE:20251026T030000
END:STANDARD
BEGIN:DAYLIGHT
TZNAME:CEST
DTSTART:20240331T020000
TZOFFSETFROM:+0100
TZOFFSETTO:+0200
RDATE:20250330T020000
RDATE:20260329T020000
END:DAYLIGHT
END:VTIMEZONE
BEGIN:VEVENT
UID:37623233-3439-4132-b661-343164363761
DTSTAMP:20260420T062054Z
CATEGORIES:Locatie Leeuwarden
CLASS:PUBLIC
DESCRIPTION:
DTSTART:20241215T123000Z
DTEND:20241215T143000Z
GEO:+53.161713;+5.799619
LOCATION:Hotel van der Valk\, Leeuwarden
ORGANIZER:
SEQUENCE:1
SUMMARY:Eindejaar bijeenkomst Leeuwarden
TRANSP:OPAQUE
URL:https://www.ageevee.nl/index.php/component/icagenda/325-eindejaar-bijee
 nkomst-leeuwarden/2024-12-15-13-30
END:VEVENT
END:VCALENDAR
