BEGIN:VCALENDAR
VERSION:2.0
PRODID:-//Ageevee.nl//NONSGML kigkonsult.se iCalcreator 2.41.92//
CALSCALE:GREGORIAN
METHOD:PUBLISH
UID:36306238-3831-4964-b063-616534396234
X-WR-CALNAME:iCagenda
X-WR-CALDESC:Event Management Extension for Joomla!
X-WR-RELCALID:3E26604A-50F4-4449-8B3E-E4F4932D05B5
X-WR-TIMEZONE:Europe/Amsterdam
BEGIN:VTIMEZONE
TZID:Europe/Amsterdam
TZUNTIL:20270328T010000Z
BEGIN:STANDARD
TZNAME:CET
DTSTART:20241027T030000
TZOFFSETFROM:+0200
TZOFFSETTO:+0100
RDATE:20251026T030000
RDATE:20261025T030000
END:STANDARD
BEGIN:DAYLIGHT
TZNAME:CEST
DTSTART:20250330T020000
TZOFFSETFROM:+0100
TZOFFSETTO:+0200
RDATE:20260329T020000
END:DAYLIGHT
END:VTIMEZONE
BEGIN:VEVENT
UID:31663363-3861-4065-b538-353635663965
DTSTAMP:20260419T220445Z
CATEGORIES:Locatie Leeuwarden
CLASS:PUBLIC
DESCRIPTION:
DTSTART:20250525T131400Z
DTEND:20250525T131400Z
GEO:00;0
LOCATION:
ORGANIZER:
SEQUENCE:1
SUMMARY:Bezoek musical Moulin Rouge\, Beatrix theater Utrecht
TRANSP:OPAQUE
URL:https://www.ageevee.nl/index.php/component/icagenda/330-bezoek-musical-
 moulin-rouge-beatrix-theater-utrecht/2025-05-25-15-14
END:VEVENT
END:VCALENDAR
