BEGIN:VCALENDAR
VERSION:2.0
PRODID:-//Ageevee.nl//NONSGML kigkonsult.se iCalcreator 2.41.92//
CALSCALE:GREGORIAN
METHOD:PUBLISH
UID:65633965-3531-4931-b434-373437393565
X-WR-CALNAME:iCagenda
X-WR-CALDESC:Event Management Extension for Joomla!
X-WR-RELCALID:3E26604A-50F4-4449-8B3E-E4F4932D05B5
X-WR-TIMEZONE:Europe/Amsterdam
BEGIN:VTIMEZONE
TZID:Europe/Amsterdam
TZUNTIL:20261025T010000Z
BEGIN:STANDARD
TZNAME:CET
DTSTART:20241027T030000
TZOFFSETFROM:+0200
TZOFFSETTO:+0100
RDATE:20251026T030000
END:STANDARD
BEGIN:DAYLIGHT
TZNAME:CEST
DTSTART:20250330T020000
TZOFFSETFROM:+0100
TZOFFSETTO:+0200
RDATE:20260329T020000
END:DAYLIGHT
END:VTIMEZONE
BEGIN:VEVENT
UID:31353932-3061-4134-a561-636231613139
DTSTAMP:20260419T233802Z
CATEGORIES:Algemeen
CLASS:PUBLIC
DESCRIPTION:
DTSTART:20250409T121500Z
DTEND:20250409T150000Z
GEO:00;0
LOCATION:Achmea gebouw Leiden
ORGANIZER;CN=:mailto:secr.leiden@ageevee.nl
SEQUENCE:1
SUMMARY:Algemene Leden Vergadering locatie Leiden
TRANSP:OPAQUE
URL:https://www.ageevee.nl/index.php/component/icagenda/333-algemene-leden-
 vergadering-locatie-leiden
END:VEVENT
END:VCALENDAR
